BEGIN:VCALENDAR
VERSION:2.0
PRODID:-//14 Cannons - ECPv6.15.11//NONSGML v1.0//EN
CALSCALE:GREGORIAN
METHOD:PUBLISH
X-WR-CALNAME:14 Cannons
X-ORIGINAL-URL:https://www.14cannons.com
X-WR-CALDESC:Events for 14 Cannons
REFRESH-INTERVAL;VALUE=DURATION:PT1H
X-Robots-Tag:noindex
X-PUBLISHED-TTL:PT1H
BEGIN:VTIMEZONE
TZID:America/Los_Angeles
BEGIN:DAYLIGHT
TZOFFSETFROM:-0800
TZOFFSETTO:-0700
TZNAME:PDT
DTSTART:20240310T100000
END:DAYLIGHT
BEGIN:STANDARD
TZOFFSETFROM:-0700
TZOFFSETTO:-0800
TZNAME:PST
DTSTART:20241103T090000
END:STANDARD
BEGIN:DAYLIGHT
TZOFFSETFROM:-0800
TZOFFSETTO:-0700
TZNAME:PDT
DTSTART:20250309T100000
END:DAYLIGHT
BEGIN:STANDARD
TZOFFSETFROM:-0700
TZOFFSETTO:-0800
TZNAME:PST
DTSTART:20251102T090000
END:STANDARD
BEGIN:DAYLIGHT
TZOFFSETFROM:-0800
TZOFFSETTO:-0700
TZNAME:PDT
DTSTART:20260308T100000
END:DAYLIGHT
BEGIN:STANDARD
TZOFFSETFROM:-0700
TZOFFSETTO:-0800
TZNAME:PST
DTSTART:20261101T090000
END:STANDARD
END:VTIMEZONE
BEGIN:VEVENT
DTSTART;TZID=America/Los_Angeles:20250228T190000
DTEND;TZID=America/Los_Angeles:20250228T190000
DTSTAMP:20260423T074626
CREATED:20250221T061614Z
LAST-MODIFIED:20250221T061614Z
UID:3555-1740769200-1740769200@www.14cannons.com
SUMMARY:Don’t Tell Comedy Night
DESCRIPTION:
URL:https://www.14cannons.com/event/dont-tell-comedy-night/
LOCATION:14 Cannons\, 31125 Via Colinas #907\, Westlake Village\, CA\, 91362\, United States
CATEGORIES:Events
END:VEVENT
BEGIN:VEVENT
DTSTART;TZID=America/Los_Angeles:20250228T170000
DTEND;TZID=America/Los_Angeles:20250228T183000
DTSTAMP:20260423T074626
CREATED:20250221T061746Z
LAST-MODIFIED:20250221T061746Z
UID:3557-1740762000-1740767400@www.14cannons.com
SUMMARY:Complimentary Wine Tasting
DESCRIPTION:
URL:https://www.14cannons.com/event/complimentary-wine-tasting-2/
LOCATION:CA
CATEGORIES:Events
END:VEVENT
BEGIN:VEVENT
DTSTART;TZID=America/Los_Angeles:20250223T180000
DTEND;TZID=America/Los_Angeles:20250223T180000
DTSTAMP:20260423T074626
CREATED:20250219T084909Z
LAST-MODIFIED:20250221T065533Z
UID:3539-1740333600-1740333600@www.14cannons.com
SUMMARY:R&B Brunch
DESCRIPTION:
URL:https://www.14cannons.com/event/rb-brunch/
LOCATION:14 Cannons\, 31125 Via Colinas #907\, Westlake Village\, CA\, 91362\, United States
CATEGORIES:Events
END:VEVENT
BEGIN:VEVENT
DTSTART;TZID=America/Los_Angeles:20250221T190000
DTEND;TZID=America/Los_Angeles:20250221T190000
DTSTAMP:20260423T074626
CREATED:20250221T061424Z
LAST-MODIFIED:20250221T061424Z
UID:3550-1740164400-1740164400@www.14cannons.com
SUMMARY:Live Music w/ Power On Band
DESCRIPTION:
URL:https://www.14cannons.com/event/live-music-w-power-on-band/
LOCATION:14 Cannons\, 31125 Via Colinas #907\, Westlake Village\, CA\, 91362\, United States
CATEGORIES:Events
END:VEVENT
BEGIN:VEVENT
DTSTART;TZID=America/Los_Angeles:20250221T170000
DTEND;TZID=America/Los_Angeles:20250221T183000
DTSTAMP:20260423T074626
CREATED:20250221T061528Z
LAST-MODIFIED:20250221T061528Z
UID:3552-1740157200-1740162600@www.14cannons.com
SUMMARY:Complimentary Wine Tasting
DESCRIPTION:
URL:https://www.14cannons.com/event/complimentary-wine-tasting/
LOCATION:14 Cannons\, 31125 Via Colinas #907\, Westlake Village\, CA\, 91362\, United States
CATEGORIES:Events
END:VEVENT
BEGIN:VEVENT
DTSTART;TZID=America/Los_Angeles:20250220T190000
DTEND;TZID=America/Los_Angeles:20250220T190000
DTSTAMP:20260423T074626
CREATED:20250219T084602Z
LAST-MODIFIED:20250221T061322Z
UID:3536-1740078000-1740078000@www.14cannons.com
SUMMARY:Comedy Night w/ Funny Girl Events
DESCRIPTION:
URL:https://www.14cannons.com/event/comedy-night-w-funny-girl-events/
LOCATION:14 Cannons\, 31125 Via Colinas #907\, Westlake Village\, CA\, 91362\, United States
CATEGORIES:Events
ATTACH;FMTTYPE=image/png:https://www.14cannons.com/wp-content/uploads/2025/02/Funny_Girl_Events.png
END:VEVENT
END:VCALENDAR