BEGIN:VCALENDAR
VERSION:2.0
PRODID:-//14 Cannons - ECPv6.15.11//NONSGML v1.0//EN
CALSCALE:GREGORIAN
METHOD:PUBLISH
X-WR-CALNAME:14 Cannons
X-ORIGINAL-URL:https://www.14cannons.com
X-WR-CALDESC:Events for 14 Cannons
REFRESH-INTERVAL;VALUE=DURATION:PT1H
X-Robots-Tag:noindex
X-PUBLISHED-TTL:PT1H
BEGIN:VTIMEZONE
TZID:America/Los_Angeles
BEGIN:DAYLIGHT
TZOFFSETFROM:-0800
TZOFFSETTO:-0700
TZNAME:PDT
DTSTART:20240310T100000
END:DAYLIGHT
BEGIN:STANDARD
TZOFFSETFROM:-0700
TZOFFSETTO:-0800
TZNAME:PST
DTSTART:20241103T090000
END:STANDARD
BEGIN:DAYLIGHT
TZOFFSETFROM:-0800
TZOFFSETTO:-0700
TZNAME:PDT
DTSTART:20250309T100000
END:DAYLIGHT
BEGIN:STANDARD
TZOFFSETFROM:-0700
TZOFFSETTO:-0800
TZNAME:PST
DTSTART:20251102T090000
END:STANDARD
BEGIN:DAYLIGHT
TZOFFSETFROM:-0800
TZOFFSETTO:-0700
TZNAME:PDT
DTSTART:20260308T100000
END:DAYLIGHT
BEGIN:STANDARD
TZOFFSETFROM:-0700
TZOFFSETTO:-0800
TZNAME:PST
DTSTART:20261101T090000
END:STANDARD
END:VTIMEZONE
BEGIN:VEVENT
DTSTART;TZID=America/Los_Angeles:20250814T190000
DTEND;TZID=America/Los_Angeles:20250814T210000
DTSTAMP:20260419T111618
CREATED:20250731T210047Z
LAST-MODIFIED:20250731T210047Z
UID:3945-1755198000-1755205200@www.14cannons.com
SUMMARY:Karaoke Night
DESCRIPTION:Featuring Rockstar Karaoke! Free Entry.
URL:https://www.14cannons.com/event/karaoke-night-2/
LOCATION:14 Cannons\, 31125 Via Colinas #907\, Westlake Village\, CA\, 91362\, United States
END:VEVENT
BEGIN:VEVENT
DTSTART;TZID=America/Los_Angeles:20250813T180000
DTEND;TZID=America/Los_Angeles:20250813T203000
DTSTAMP:20260419T111618
CREATED:20250731T205848Z
LAST-MODIFIED:20250731T205848Z
UID:3943-1755108000-1755117000@www.14cannons.com
SUMMARY:Back to School Bingo Night
DESCRIPTION:Calling ALL Families! Let’s Celebrate Going Back to School – BINGO STYLE
URL:https://www.14cannons.com/event/back-to-school-bingo-night/
LOCATION:CA
END:VEVENT
BEGIN:VEVENT
DTSTART;TZID=America/Los_Angeles:20250809T190000
DTEND;TZID=America/Los_Angeles:20250809T210000
DTSTAMP:20260419T111618
CREATED:20250731T205044Z
LAST-MODIFIED:20250731T205044Z
UID:3941-1754766000-1754773200@www.14cannons.com
SUMMARY:Live Music w/ Virtual Nobodies
DESCRIPTION:
URL:https://www.14cannons.com/event/live-music-w-virtual-nobodies-3/
LOCATION:CA
END:VEVENT
BEGIN:VEVENT
DTSTART;TZID=America/Los_Angeles:20250808T190000
DTEND;TZID=America/Los_Angeles:20250808T220000
DTSTAMP:20260419T111618
CREATED:20250801T172836Z
LAST-MODIFIED:20250801T172836Z
UID:4066-1754679600-1754690400@www.14cannons.com
SUMMARY:Country Vibes Night
DESCRIPTION:Live Music ft Ellis Bryant\, Local Vendors\, + Line Dancing Instructions
URL:https://www.14cannons.com/event/country-vibes-night-2/
LOCATION:14 Cannons\, 31125 Via Colinas #907\, Westlake Village\, CA\, 91362\, United States
END:VEVENT
BEGIN:VEVENT
DTSTART;TZID=America/Los_Angeles:20250808T190000
DTEND;TZID=America/Los_Angeles:20250808T210000
DTSTAMP:20260419T111618
CREATED:20250801T173022Z
LAST-MODIFIED:20250801T173022Z
UID:4067-1754679600-1754686800@www.14cannons.com
SUMMARY:Country Vibes Night
DESCRIPTION:Live Music Ft. Ellis Bryant\, Local Vendors\, + Line Dancing Instructions
URL:https://www.14cannons.com/event/country-vibes-night-3/
LOCATION:14 Cannons\, 31125 Via Colinas #907\, Westlake Village\, CA\, 91362\, United States
END:VEVENT
BEGIN:VEVENT
DTSTART;TZID=America/Los_Angeles:20250806T180000
DTEND;TZID=America/Los_Angeles:20250806T203000
DTSTAMP:20260419T111618
CREATED:20250628T150818Z
LAST-MODIFIED:20250801T213954Z
UID:3847-1754503200-1754512200@www.14cannons.com
SUMMARY:Bingo Night
DESCRIPTION:It’s not your grandma’s bingo. Wild prizes\, off-the-wall challenges\, and the kind of midweek energy you didn’t know you needed—plus award-winning beer\, legit food\, and wine that slaps. Join us every Wednesday at 14 Cannons for an awesome night! Games starts at 6PM – Reservations strongly encouraged.
URL:https://www.14cannons.com/event/bingo-night-7/
LOCATION:CA
END:VEVENT
BEGIN:VEVENT
DTSTART;TZID=America/Los_Angeles:20250801T190000
DTEND;TZID=America/Los_Angeles:20250801T210000
DTSTAMP:20260419T111618
CREATED:20250731T204835Z
LAST-MODIFIED:20250731T204835Z
UID:3939-1754074800-1754082000@www.14cannons.com
SUMMARY:Live Music w/ Peter Wise
DESCRIPTION:
URL:https://www.14cannons.com/event/live-music-w-peter-wise/
LOCATION:14 Cannons\, 31125 Via Colinas #907\, Westlake Village\, CA\, 91362\, United States
END:VEVENT
BEGIN:VEVENT
DTSTART;TZID=America/Los_Angeles:20250731T190000
DTEND;TZID=America/Los_Angeles:20250731T210000
DTSTAMP:20260419T111618
CREATED:20250628T001509Z
LAST-MODIFIED:20250628T001509Z
UID:3837-1753988400-1753995600@www.14cannons.com
SUMMARY:Country Vibes Night
DESCRIPTION:Live Music w/ Ellis Bryant + Shop Local
URL:https://www.14cannons.com/event/country-vibes-night/
LOCATION:14 Cannons\, 31125 Via Colinas #907\, Westlake Village\, CA\, 91362\, United States
END:VEVENT
BEGIN:VEVENT
DTSTART;TZID=America/Los_Angeles:20250727T110000
DTEND;TZID=America/Los_Angeles:20250727T150000
DTSTAMP:20260419T111618
CREATED:20250628T150051Z
LAST-MODIFIED:20250628T150051Z
UID:3839-1753614000-1753628400@www.14cannons.com
SUMMARY:EDM Brunch
DESCRIPTION:Join us for a high-energy brunch where the beats are just as bold as the mimosas. Live DJs spinning daytime house & EDM vibes\, brunch favorites with a twist\, bottomless mimosas & cold beer & wine – Dancing encouraged\, good vibes guaranteed. Tickets required
URL:https://www.14cannons.com/event/edm-brunch/
LOCATION:CA
END:VEVENT
BEGIN:VEVENT
DTSTART;TZID=America/Los_Angeles:20250727T110000
DTEND;TZID=America/Los_Angeles:20250727T150000
DTSTAMP:20260419T111618
CREATED:20250610T152422Z
LAST-MODIFIED:20250628T001021Z
UID:3789-1753614000-1753628400@www.14cannons.com
SUMMARY:Saloon Series at Wolfe Canyon Ranch
DESCRIPTION:Come on down to our Saloon Series event at Wolfe Canyon Ranch! Get ready for a wild west experience like no other. Saddle up for a day full of live music\, local vendors\, beer & wine from 14 Cannons\, food trucks\, and good ol’ fashioned fun. Dust off your cowboy boots and join us for a rootin’ tootin’ good time. So grab your partner and mosey on down to the Saloon Series for a day you won’t soon forget! Free admission. $10 parking\, drinks sold separately.
URL:https://www.14cannons.com/event/saloon-series-on-fathers-day-at-wolfe-canyon-ranch/
LOCATION:Wolfe Canyon Ranch\, 2127 E Olsen Rd\, Thousand Oaks\, CA\, 91362\, United States
END:VEVENT
BEGIN:VEVENT
DTSTART;TZID=America/Los_Angeles:20250726T190000
DTEND;TZID=America/Los_Angeles:20250726T210000
DTSTAMP:20260419T111618
CREATED:20250628T000216Z
LAST-MODIFIED:20250628T000216Z
UID:3833-1753556400-1753563600@www.14cannons.com
SUMMARY:Live Music w/ Bad Cherry
DESCRIPTION:7:00 – 9:00 PM
URL:https://www.14cannons.com/event/live-music-w-bad-cherry-3/
LOCATION:14 Cannons\, 31125 Via Colinas #907\, Westlake Village\, CA\, 91362\, United States
END:VEVENT
BEGIN:VEVENT
DTSTART;TZID=America/Los_Angeles:20250725T190000
DTEND;TZID=America/Los_Angeles:20250725T210000
DTSTAMP:20260419T111618
CREATED:20250628T000047Z
LAST-MODIFIED:20250628T000047Z
UID:3831-1753470000-1753477200@www.14cannons.com
SUMMARY:Live Music w/ Just Dave Band
DESCRIPTION:7:00 – 9:00 PM
URL:https://www.14cannons.com/event/live-music-w-just-dave-band/
LOCATION:CA
END:VEVENT
BEGIN:VEVENT
DTSTART;TZID=America/Los_Angeles:20250724T190000
DTEND;TZID=America/Los_Angeles:20250724T210000
DTSTAMP:20260419T111618
CREATED:20250627T235907Z
LAST-MODIFIED:20250628T001232Z
UID:3829-1753383600-1753390800@www.14cannons.com
SUMMARY:Karaoke Night
DESCRIPTION:
URL:https://www.14cannons.com/event/karaoke-night/
LOCATION:14 Cannons\, 31125 Via Colinas #907\, Westlake Village\, CA\, 91362\, United States
END:VEVENT
BEGIN:VEVENT
DTSTART;TZID=America/Los_Angeles:20250723T180000
DTEND;TZID=America/Los_Angeles:20250723T203000
DTSTAMP:20260419T111618
CREATED:20250628T150726Z
LAST-MODIFIED:20250628T150726Z
UID:3845-1753293600-1753302600@www.14cannons.com
SUMMARY:Bingo Night
DESCRIPTION:It’s not your grandma’s bingo. Wild prizes\, off-the-wall challenges\, and the kind of midweek energy you didn’t know you needed—plus award-winning beer\, legit food\, and wine that slaps. Join us every Wednesday at 14 Cannons for an awesome night! Games starts at 6PM – Reservations strongly encouraged.
URL:https://www.14cannons.com/event/bingo-night-6/
LOCATION:14 Cannons\, 31125 Via Colinas #907\, Westlake Village\, CA\, 91362\, United States
END:VEVENT
BEGIN:VEVENT
DTSTART;TZID=America/Los_Angeles:20250721T180000
DTEND;TZID=America/Los_Angeles:20250721T180000
DTSTAMP:20260419T111618
CREATED:20250627T235457Z
LAST-MODIFIED:20250627T235457Z
UID:3827-1753120800-1753120800@www.14cannons.com
SUMMARY:Brewery Closing Early For Private Party
DESCRIPTION:Please note the taproom will be closing at 6PM for private event
URL:https://www.14cannons.com/event/brewery-closing-early-for-private-party/
LOCATION:14 Cannons\, 31125 Via Colinas #907\, Westlake Village\, CA\, 91362\, United States
END:VEVENT
BEGIN:VEVENT
DTSTART;TZID=America/Los_Angeles:20250720T110000
DTEND;TZID=America/Los_Angeles:20250720T150000
DTSTAMP:20260419T111618
CREATED:20250627T234959Z
LAST-MODIFIED:20250627T234959Z
UID:3825-1753009200-1753023600@www.14cannons.com
SUMMARY:R&B Brunch
DESCRIPTION:Welcome to the R&B Sing-A-Long Brunch at 14 Cannons! Get ready to sing your heart out to all your favorite R&B hits while enjoying delicious brunch specials. This in-person event is the perfect opportunity to gather with friends\, enjoy great food\, and belt out tunes together. Don’t miss out on this fun-filled experience that will have you grooving all day long. Grab your $20 entry fee tickets now and get ready for a memorable Saturday filled with music and good vibes! Food & Beverages will be available for purchase. PLEASE NOTE: THIS EVENT WILL SELL OUT. Tickets will not be available for purchase on the day of the event.
URL:https://www.14cannons.com/event/rb-brunch-3/
LOCATION:14 Cannons\, 31125 Via Colinas #907\, Westlake Village\, CA\, 91362\, United States
END:VEVENT
BEGIN:VEVENT
DTSTART;TZID=America/Los_Angeles:20250719T190000
DTEND;TZID=America/Los_Angeles:20250719T190000
DTSTAMP:20260419T111618
CREATED:20250627T233903Z
LAST-MODIFIED:20250627T233903Z
UID:3823-1752951600-1752951600@www.14cannons.com
SUMMARY:Don’t' Tell Comedy Night
DESCRIPTION:Tickets available online! 
URL:https://www.14cannons.com/event/dont-tell-comedy-night-4/
LOCATION:CA
END:VEVENT
BEGIN:VEVENT
DTSTART;TZID=America/Los_Angeles:20250718T190000
DTEND;TZID=America/Los_Angeles:20250718T210000
DTSTAMP:20260419T111618
CREATED:20250627T233552Z
LAST-MODIFIED:20250627T233552Z
UID:3821-1752865200-1752872400@www.14cannons.com
SUMMARY:Live Music w/ Illunis Band
DESCRIPTION:7:00 – 9:00 PM
URL:https://www.14cannons.com/event/live-music-w-illunis-band-2/
LOCATION:CA
END:VEVENT
BEGIN:VEVENT
DTSTART;TZID=America/Los_Angeles:20250717T190000
DTEND;TZID=America/Los_Angeles:20250717T190000
DTSTAMP:20260419T111618
CREATED:20250627T232722Z
LAST-MODIFIED:20250627T232926Z
UID:3818-1752778800-1752778800@www.14cannons.com
SUMMARY:Comedy Night w/ Funny Girl Events
DESCRIPTION:Limited tickets available
URL:https://www.14cannons.com/event/comedy-night-w-funny-girl-events-6/
LOCATION:14 Cannons\, 31125 Via Colinas #907\, Westlake Village\, CA\, 91362\, United States
END:VEVENT
BEGIN:VEVENT
DTSTART;TZID=America/Los_Angeles:20250716T180000
DTEND;TZID=America/Los_Angeles:20250716T203000
DTSTAMP:20260419T111618
CREATED:20250628T150614Z
LAST-MODIFIED:20250628T150614Z
UID:3843-1752688800-1752697800@www.14cannons.com
SUMMARY:Bingo Night
DESCRIPTION:It’s not your grandma’s bingo. Wild prizes\, off-the-wall challenges\, and the kind of midweek energy you didn’t know you needed—plus award-winning beer\, legit food\, and wine that slaps. Join us every Wednesday at 14 Cannons for an awesome night! Games starts at 6PM – Reservations strongly encouraged.
URL:https://www.14cannons.com/event/bingo-night-5/
LOCATION:CA
END:VEVENT
BEGIN:VEVENT
DTSTART;TZID=America/Los_Angeles:20250715T160000
DTEND;TZID=America/Los_Angeles:20250715T210000
DTSTAMP:20260419T111618
CREATED:20250627T232608Z
LAST-MODIFIED:20250628T000808Z
UID:3816-1752595200-1752613200@www.14cannons.com
SUMMARY:Monthly Privateer Night
DESCRIPTION:Calling all Privateers! Enjoy your first pint on us
URL:https://www.14cannons.com/event/monthly-privateer-night-5/
LOCATION:14 Cannons\, 31125 Via Colinas #907\, Westlake Village\, CA\, 91362\, United States
END:VEVENT
BEGIN:VEVENT
DTSTART;TZID=America/Los_Angeles:20250712T190000
DTEND;TZID=America/Los_Angeles:20250712T210000
DTSTAMP:20260419T111618
CREATED:20250627T232419Z
LAST-MODIFIED:20250627T232419Z
UID:3814-1752346800-1752354000@www.14cannons.com
SUMMARY:Live Music w/ Undercover Supergroup
DESCRIPTION:7:00 – 9:00 PM
URL:https://www.14cannons.com/event/live-music-w-undercover-supergroup/
LOCATION:14 Cannons\, 31125 Via Colinas #907\, Westlake Village\, CA\, 91362\, United States
END:VEVENT
BEGIN:VEVENT
DTSTART;TZID=America/Los_Angeles:20250711T190000
DTEND;TZID=America/Los_Angeles:20250711T210000
DTSTAMP:20260419T111618
CREATED:20250627T232314Z
LAST-MODIFIED:20250627T232314Z
UID:3812-1752260400-1752267600@www.14cannons.com
SUMMARY:Live Music w/ Virtual Nobodies
DESCRIPTION:7:00 – 9:00 PM
URL:https://www.14cannons.com/event/live-music-w-virtual-nobodies-2/
LOCATION:14 Cannons\, 31125 Via Colinas #907\, Westlake Village\, CA\, 91362\, United States
END:VEVENT
BEGIN:VEVENT
DTSTART;TZID=America/Los_Angeles:20250709T180000
DTEND;TZID=America/Los_Angeles:20250709T203000
DTSTAMP:20260419T111618
CREATED:20250628T150403Z
LAST-MODIFIED:20250628T150403Z
UID:3841-1752084000-1752093000@www.14cannons.com
SUMMARY:Bingo Night
DESCRIPTION:It’s not your grandma’s bingo. Wild prizes\, off-the-wall challenges\, and the kind of midweek energy you didn’t know you needed—plus award-winning beer\, legit food\, and wine that slaps. Join us every Wednesday at 14 Cannons for an awesome night! Games starts at 6PM – Reservations strongly encouraged.
URL:https://www.14cannons.com/event/bingo-night-4/
LOCATION:14 Cannons\, 31125 Via Colinas #907\, Westlake Village\, CA\, 91362\, United States
END:VEVENT
BEGIN:VEVENT
DTSTART;TZID=America/Los_Angeles:20250708T180000
DTEND;TZID=America/Los_Angeles:20250708T200000
DTSTAMP:20260419T111618
CREATED:20250627T232215Z
LAST-MODIFIED:20250628T000550Z
UID:3810-1751997600-1752004800@www.14cannons.com
SUMMARY:Beer Tasting & Brewery Tour
DESCRIPTION:Starts at 6:00 PM. Enjoy an educational tasting and brewery tour w/ our head brewer Jared Gonzales. Price is $15 per person\, limited space available
URL:https://www.14cannons.com/event/beer-tasting-brewery-tour/
LOCATION:14 Cannons\, 31125 Via Colinas #907\, Westlake Village\, CA\, 91362\, United States
END:VEVENT
BEGIN:VEVENT
DTSTART;TZID=America/Los_Angeles:20250704T100000
DTEND;TZID=America/Los_Angeles:20250704T120000
DTSTAMP:20260419T111618
CREATED:20250627T222717Z
LAST-MODIFIED:20250627T222901Z
UID:3807-1751623200-1751630400@www.14cannons.com
SUMMARY:Limited Holiday Hours
DESCRIPTION:Our taproom will be open from 10AM-12PM for to-go orders online! Stock up!
URL:https://www.14cannons.com/event/limited-holiday-hours/
LOCATION:14 Cannons\, 31125 Via Colinas #907\, Westlake Village\, CA\, 91362\, United States
END:VEVENT
BEGIN:VEVENT
DTSTART;TZID=America/Los_Angeles:20250702T180000
DTEND;TZID=America/Los_Angeles:20250702T203000
DTSTAMP:20260419T111618
CREATED:20250604T152713Z
LAST-MODIFIED:20250628T150451Z
UID:3756-1751479200-1751488200@www.14cannons.com
SUMMARY:Bingo Night
DESCRIPTION:It’s not your grandma’s bingo. Wild prizes\, off-the-wall challenges\, and the kind of midweek energy you didn’t know you needed—plus award-winning beer\, legit food\, and wine that slaps. Join us every Wednesday at 14 Cannons for an awesome night! Games starts at 6PM – Reservations strongly encouraged.
URL:https://www.14cannons.com/event/live-music-w-al-wright-friends/
LOCATION:14 Cannons\, 31125 Via Colinas #907\, Westlake Village\, CA\, 91362\, United States
END:VEVENT
BEGIN:VEVENT
DTSTART;TZID=America/Los_Angeles:20250628T190000
DTEND;TZID=America/Los_Angeles:20250628T210000
DTSTAMP:20260419T111618
CREATED:20250604T153841Z
LAST-MODIFIED:20250604T153841Z
UID:3778-1751137200-1751144400@www.14cannons.com
SUMMARY:Live Music w/ Hana Tabbara
DESCRIPTION:
URL:https://www.14cannons.com/event/live-music-w-hana-tabbara/
LOCATION:CA
END:VEVENT
BEGIN:VEVENT
DTSTART;TZID=America/Los_Angeles:20250622T110000
DTEND;TZID=America/Los_Angeles:20250622T150000
DTSTAMP:20260419T111618
CREATED:20250604T154233Z
LAST-MODIFIED:20250604T154233Z
UID:3784-1750590000-1750604400@www.14cannons.com
SUMMARY:R&B Sing-A-Long Brunch
DESCRIPTION:WE BACK BABY! Get ready to sing your heart out to all your favorite R&B hits while enjoying delicious brunch specials on Sunday\, June 22nd. This in-person event is the perfect opportunity to gather with friends\, enjoy great food\, and belt out tunes together 🎶 \nDon’t miss out on this fun-filled experience that will have you grooving all day long. Grab your $20 entry fee tickets now and get ready for a memorable Saturday filled with music and good vibes! Food & Beverages will be available for purchase. PLEASE NOTE: THIS EVENT WILL SELL OUT. Tickets will not be available for purchase on the day of the event. 
URL:https://www.14cannons.com/event/rb-sing-a-long-brunch-2/
LOCATION:14 Cannons\, 31125 Via Colinas #907\, Westlake Village\, CA\, 91362\, United States
END:VEVENT
BEGIN:VEVENT
DTSTART;TZID=America/Los_Angeles:20250621T170000
DTEND;TZID=America/Los_Angeles:20250621T170000
DTSTAMP:20260419T111618
CREATED:20250622T000110Z
LAST-MODIFIED:20250622T000110Z
UID:3804-1750525200-1750525200@www.14cannons.com
SUMMARY:Brewery Closing Early For Private Event
DESCRIPTION:
URL:https://www.14cannons.com/event/brewery-closing-early-for-private-event-2/
LOCATION:CA
END:VEVENT
END:VCALENDAR