BEGIN:VCALENDAR
VERSION:2.0
PRODID:-//14 Cannons - ECPv6.15.11//NONSGML v1.0//EN
CALSCALE:GREGORIAN
METHOD:PUBLISH
X-WR-CALNAME:14 Cannons
X-ORIGINAL-URL:https://www.14cannons.com
X-WR-CALDESC:Events for 14 Cannons
REFRESH-INTERVAL;VALUE=DURATION:PT1H
X-Robots-Tag:noindex
X-PUBLISHED-TTL:PT1H
BEGIN:VTIMEZONE
TZID:America/Los_Angeles
BEGIN:DAYLIGHT
TZOFFSETFROM:-0800
TZOFFSETTO:-0700
TZNAME:PDT
DTSTART:20240310T100000
END:DAYLIGHT
BEGIN:STANDARD
TZOFFSETFROM:-0700
TZOFFSETTO:-0800
TZNAME:PST
DTSTART:20241103T090000
END:STANDARD
BEGIN:DAYLIGHT
TZOFFSETFROM:-0800
TZOFFSETTO:-0700
TZNAME:PDT
DTSTART:20250309T100000
END:DAYLIGHT
BEGIN:STANDARD
TZOFFSETFROM:-0700
TZOFFSETTO:-0800
TZNAME:PST
DTSTART:20251102T090000
END:STANDARD
BEGIN:DAYLIGHT
TZOFFSETFROM:-0800
TZOFFSETTO:-0700
TZNAME:PDT
DTSTART:20260308T100000
END:DAYLIGHT
BEGIN:STANDARD
TZOFFSETFROM:-0700
TZOFFSETTO:-0800
TZNAME:PST
DTSTART:20261101T090000
END:STANDARD
END:VTIMEZONE
BEGIN:VEVENT
DTSTART;TZID=America/Los_Angeles:20250501T080000
DTEND;TZID=America/Los_Angeles:20250501T170000
DTSTAMP:20260419T111736
CREATED:20250502T022105Z
LAST-MODIFIED:20250502T022105Z
UID:3745-1746086400-1746118800@www.14cannons.com
SUMMARY:Art & Ale
DESCRIPTION:$30 Per Person! Enjoy all art supplies and one complimentary drink \nhttps://www.eventbrite.com/e/art-ale-at-14-cannons-tickets-1344719445059?aff=oddtdtcreator&fbclid=PAZXh0bgNhZW0CMTEAAacmnmVoS-3pNTu8s1QSxSvY2lTEllEN4Sy6zB-t6PimMwaT4WpGGZJv2dfLnQ_aem_8iQBxryBtuGhQcZraS9SzA
URL:https://www.14cannons.com/event/art-ale/
LOCATION:CA
END:VEVENT
BEGIN:VEVENT
DTSTART;TZID=America/Los_Angeles:20250501T080000
DTEND;TZID=America/Los_Angeles:20250501T170000
DTSTAMP:20260419T111736
CREATED:20250502T021358Z
LAST-MODIFIED:20250502T021358Z
UID:3733-1746086400-1746118800@www.14cannons.com
SUMMARY:Comedy Night w/ Funny Girl Events
DESCRIPTION:Tickets Available  https://www.eventbrite.com/e/westlake-village-comedy-club-14-tickets-1331008615599?aff=oddtdtcreator
URL:https://www.14cannons.com/event/comedy-night-w-funny-girl-events-3/
LOCATION:CA
END:VEVENT
BEGIN:VEVENT
DTSTART;TZID=America/Los_Angeles:20250501T080000
DTEND;TZID=America/Los_Angeles:20250501T170000
DTSTAMP:20260419T111736
CREATED:20250502T021229Z
LAST-MODIFIED:20250502T021229Z
UID:3730-1746086400-1746118800@www.14cannons.com
SUMMARY:Mothers Day Specials : Rose All Day
DESCRIPTION:Celebrating ALL the awesome mom’s! Complimentary Rose + food specials all day
URL:https://www.14cannons.com/event/mothers-day-specials-rose-all-day/
LOCATION:CA
END:VEVENT
BEGIN:VEVENT
DTSTART;TZID=America/Los_Angeles:20250427T120000
DTEND;TZID=America/Los_Angeles:20250427T120000
DTSTAMP:20260419T111736
CREATED:20250401T101856Z
LAST-MODIFIED:20250417T160539Z
UID:3691-1745755200-1745755200@www.14cannons.com
SUMMARY:Saloon Series at Wolfe Canyon Ranch
DESCRIPTION:Gates Open at 12 PM. Live Music\, Food Trucks\, Drinks Poured By 14 Cannons\, & More! Grab your VIP tickets today 
URL:https://www.14cannons.com/event/saloon-series-at-wolfe-canyon-ranch/
LOCATION:Wolfe Canyon Ranch\, 2127 E Olsen Rd\, Thousand Oaks\, CA\, 91362\, United States
CATEGORIES:Events
END:VEVENT
BEGIN:VEVENT
DTSTART;TZID=America/Los_Angeles:20250426T110000
DTEND;TZID=America/Los_Angeles:20250426T150000
DTSTAMP:20260419T111736
CREATED:20250401T101745Z
LAST-MODIFIED:20250401T101745Z
UID:3689-1745665200-1745679600@www.14cannons.com
SUMMARY:R&B Sing-A-Long Brunch
DESCRIPTION:11:00 AM – 3:00 PM. Limited Tickets Available!
URL:https://www.14cannons.com/event/rb-sing-a-long-brunch/
LOCATION:14 Cannons\, 31125 Via Colinas #907\, Westlake Village\, CA\, 91362\, United States
CATEGORIES:Events
END:VEVENT
BEGIN:VEVENT
DTSTART;TZID=America/Los_Angeles:20250425T200000
DTEND;TZID=America/Los_Angeles:20250425T200000
DTSTAMP:20260419T111736
CREATED:20250401T101637Z
LAST-MODIFIED:20250401T101637Z
UID:3687-1745611200-1745611200@www.14cannons.com
SUMMARY:Don't Tell Comedy Night
DESCRIPTION:Starts at 8:00 PM. Tickets Available Online
URL:https://www.14cannons.com/event/dont-tell-comedy-night-2/
LOCATION:14 Cannons\, 31125 Via Colinas #907\, Westlake Village\, CA\, 91362\, United States
CATEGORIES:Events
END:VEVENT
BEGIN:VEVENT
DTSTART;TZID=America/Los_Angeles:20250420T080000
DTEND;TZID=America/Los_Angeles:20250420T160000
DTSTAMP:20260419T111736
CREATED:20250401T101425Z
LAST-MODIFIED:20250401T101535Z
UID:3685-1745136000-1745164800@www.14cannons.com
SUMMARY:Easter Sunday
DESCRIPTION:Taproom Will Be Closing at 4:00 PM
URL:https://www.14cannons.com/event/easter-sunday/
LOCATION:14 Cannons\, 31125 Via Colinas #907\, Westlake Village\, CA\, 91362\, United States
CATEGORIES:Events
END:VEVENT
BEGIN:VEVENT
DTSTART;TZID=America/Los_Angeles:20250419T190000
DTEND;TZID=America/Los_Angeles:20250419T210000
DTSTAMP:20260419T111736
CREATED:20250401T100858Z
LAST-MODIFIED:20250401T100858Z
UID:3683-1745089200-1745096400@www.14cannons.com
SUMMARY:Live Music w/ Brett Copeland + Band
DESCRIPTION:
URL:https://www.14cannons.com/event/live-music-w-brett-copeland-band/
LOCATION:14 Cannons\, 31125 Via Colinas #907\, Westlake Village\, CA\, 91362\, United States
CATEGORIES:Events
END:VEVENT
BEGIN:VEVENT
DTSTART;TZID=America/Los_Angeles:20250418T190000
DTEND;TZID=America/Los_Angeles:20250418T190000
DTSTAMP:20260419T111736
CREATED:20250401T100526Z
LAST-MODIFIED:20250401T100758Z
UID:3681-1745002800-1745002800@www.14cannons.com
SUMMARY:Music Bingo Fest
DESCRIPTION:Starts at 7:00 PM. Ages 21+\, DJ\, Hilarious Games\, & More! Limited Space Available
URL:https://www.14cannons.com/event/music-bingo-fest/
LOCATION:14 Cannons\, 31125 Via Colinas #907\, Westlake Village\, CA\, 91362\, United States
CATEGORIES:Events
END:VEVENT
BEGIN:VEVENT
DTSTART;TZID=America/Los_Angeles:20250418T170000
DTEND;TZID=America/Los_Angeles:20250418T190000
DTSTAMP:20260419T111736
CREATED:20250401T095151Z
LAST-MODIFIED:20250401T100358Z
UID:3678-1744995600-1745002800@www.14cannons.com
SUMMARY:Live Music w/ Jockey Jordan
DESCRIPTION:
URL:https://www.14cannons.com/event/live-music-w-jockey-jordan/
LOCATION:14 Cannons\, 31125 Via Colinas #907\, Westlake Village\, CA\, 91362\, United States
CATEGORIES:Events
END:VEVENT
BEGIN:VEVENT
DTSTART;VALUE=DATE:20250417
DTEND;VALUE=DATE:20250418
DTSTAMP:20260419T111736
CREATED:20250401T094904Z
LAST-MODIFIED:20250401T094927Z
UID:3674-1744848000-1744934399@www.14cannons.com
SUMMARY:Comedy Night ft. Funny Girl Events
DESCRIPTION:
URL:https://www.14cannons.com/event/comedy-night-ft-funny-girl-events/
LOCATION:14 Cannons\, 31125 Via Colinas #907\, Westlake Village\, CA\, 91362\, United States
CATEGORIES:Events
END:VEVENT
BEGIN:VEVENT
DTSTART;TZID=America/Los_Angeles:20250416T180000
DTEND;TZID=America/Los_Angeles:20250416T180000
DTSTAMP:20260419T111736
CREATED:20250401T094216Z
LAST-MODIFIED:20250401T094657Z
UID:3671-1744826400-1744826400@www.14cannons.com
SUMMARY:Ultimate Kids Bingo Night
DESCRIPTION:Calling All Families! Game Starts at 6:00 PM
URL:https://www.14cannons.com/event/ultimate-kids-bingo-night/
LOCATION:14 Cannons\, 31125 Via Colinas #907\, Westlake Village\, CA\, 91362\, United States
CATEGORIES:Events
END:VEVENT
BEGIN:VEVENT
DTSTART;VALUE=DATE:20250415
DTEND;VALUE=DATE:20250416
DTSTAMP:20260419T111736
CREATED:20250401T094136Z
LAST-MODIFIED:20250401T094329Z
UID:3669-1744675200-1744761599@www.14cannons.com
SUMMARY:Monthly Privateer Night
DESCRIPTION:
URL:https://www.14cannons.com/event/monthly-privateer-night-2/
LOCATION:14 Cannons\, 31125 Via Colinas #907\, Westlake Village\, CA\, 91362\, United States
CATEGORIES:Events
END:VEVENT
BEGIN:VEVENT
DTSTART;TZID=America/Los_Angeles:20250412T190000
DTEND;TZID=America/Los_Angeles:20250412T210000
DTSTAMP:20260419T111736
CREATED:20250401T094015Z
LAST-MODIFIED:20250401T094015Z
UID:3667-1744484400-1744491600@www.14cannons.com
SUMMARY:Live Music w/ Mike Scully & Band
DESCRIPTION:
URL:https://www.14cannons.com/event/live-music-w-mike-scully-band/
LOCATION:14 Cannons\, 31125 Via Colinas #907\, Westlake Village\, CA\, 91362\, United States
CATEGORIES:Events
END:VEVENT
BEGIN:VEVENT
DTSTART;TZID=America/Los_Angeles:20250411T190000
DTEND;TZID=America/Los_Angeles:20250411T210000
DTSTAMP:20260419T111736
CREATED:20250401T093819Z
LAST-MODIFIED:20250401T093819Z
UID:3665-1744398000-1744405200@www.14cannons.com
SUMMARY:Live Music w/ Power On Band
DESCRIPTION:
URL:https://www.14cannons.com/event/live-music-w-power-on-band-2/
LOCATION:14 Cannons\, 31125 Via Colinas #907\, Westlake Village\, CA\, 91362\, United States
CATEGORIES:Events
END:VEVENT
BEGIN:VEVENT
DTSTART;TZID=America/Los_Angeles:20250410T190000
DTEND;TZID=America/Los_Angeles:20250410T210000
DTSTAMP:20260419T111736
CREATED:20250401T090651Z
LAST-MODIFIED:20250401T093606Z
UID:3660-1744311600-1744318800@www.14cannons.com
SUMMARY:“Country Vibe”s Live Music w/ Ellis Bryant + Embroidery Company
DESCRIPTION:
URL:https://www.14cannons.com/event/country-vibes-live-music-w-ellis-bryant-embroidery-company/
LOCATION:14 Cannons\, 31125 Via Colinas #907\, Westlake Village\, CA\, 91362\, United States
CATEGORIES:Events
END:VEVENT
BEGIN:VEVENT
DTSTART;TZID=America/Los_Angeles:20250407T190000
DTEND;TZID=America/Los_Angeles:20250407T210000
DTSTAMP:20260419T111736
CREATED:20250401T090557Z
LAST-MODIFIED:20250401T093601Z
UID:3658-1744052400-1744059600@www.14cannons.com
SUMMARY:National Beer Day (Specials)
DESCRIPTION:
URL:https://www.14cannons.com/event/national-beer-day-specials/
LOCATION:14 Cannons\, 31125 Via Colinas #907\, Westlake Village\, CA\, 91362\, United States
CATEGORIES:Events
END:VEVENT
BEGIN:VEVENT
DTSTART;TZID=America/Los_Angeles:20250406T190000
DTEND;TZID=America/Los_Angeles:20250406T210000
DTSTAMP:20260419T111736
CREATED:20250401T090511Z
LAST-MODIFIED:20250401T091255Z
UID:3656-1743966000-1743973200@www.14cannons.com
SUMMARY:Saloon Series
DESCRIPTION:
URL:https://www.14cannons.com/event/saloon-series/
LOCATION:Wolfe Canyon Ranch\, 2127 E Olsen Rd\, Thousand Oaks\, CA\, 91362\, United States
CATEGORIES:Events
END:VEVENT
BEGIN:VEVENT
DTSTART;TZID=America/Los_Angeles:20250405T190000
DTEND;TZID=America/Los_Angeles:20250405T210000
DTSTAMP:20260419T111736
CREATED:20250401T090410Z
LAST-MODIFIED:20250401T090410Z
UID:3654-1743879600-1743886800@www.14cannons.com
SUMMARY:Live Music Mike Smith
DESCRIPTION:
URL:https://www.14cannons.com/event/live-music-mike-smith/
LOCATION:14 Cannons\, 31125 Via Colinas #907\, Westlake Village\, CA\, 91362\, United States
CATEGORIES:Events
END:VEVENT
BEGIN:VEVENT
DTSTART;TZID=America/Los_Angeles:20250404T190000
DTEND;TZID=America/Los_Angeles:20250404T210000
DTSTAMP:20260419T111736
CREATED:20250401T090327Z
LAST-MODIFIED:20250401T090327Z
UID:3652-1743793200-1743800400@www.14cannons.com
SUMMARY:Live Music Sam Khosravi
DESCRIPTION:
URL:https://www.14cannons.com/event/live-music-sam-khosravi/
LOCATION:14 Cannons\, 31125 Via Colinas #907\, Westlake Village\, CA\, 91362\, United States
CATEGORIES:Events
END:VEVENT
BEGIN:VEVENT
DTSTART;TZID=America/Los_Angeles:20250329T190000
DTEND;TZID=America/Los_Angeles:20250329T190000
DTSTAMP:20260419T111736
CREATED:20250221T065056Z
LAST-MODIFIED:20250221T065056Z
UID:3589-1743274800-1743274800@www.14cannons.com
SUMMARY:Don’t Tell Comedy
DESCRIPTION:
URL:https://www.14cannons.com/event/dont-tell-comedy/
LOCATION:14 Cannons\, 31125 Via Colinas #907\, Westlake Village\, CA\, 91362\, United States
CATEGORIES:Events
END:VEVENT
BEGIN:VEVENT
DTSTART;TZID=America/Los_Angeles:20250328T190000
DTEND;TZID=America/Los_Angeles:20250328T190000
DTSTAMP:20260419T111736
CREATED:20250221T065002Z
LAST-MODIFIED:20250221T065002Z
UID:3587-1743188400-1743188400@www.14cannons.com
SUMMARY:Live Music
DESCRIPTION:
URL:https://www.14cannons.com/event/live-music-2/
LOCATION:14 Cannons\, 31125 Via Colinas #907\, Westlake Village\, CA\, 91362\, United States
CATEGORIES:Events
END:VEVENT
BEGIN:VEVENT
DTSTART;TZID=America/Los_Angeles:20250327T161000
DTEND;TZID=America/Los_Angeles:20250327T161000
DTSTAMP:20260419T111736
CREATED:20250221T064800Z
LAST-MODIFIED:20250221T064835Z
UID:3583-1743091800-1743091800@www.14cannons.com
SUMMARY:Dodgers Open Day
DESCRIPTION:Wear A Dodger Jersey For the Open Game Day & Receive Complimentary Beer
URL:https://www.14cannons.com/event/dodgers-open-day/
LOCATION:14 Cannons\, 31125 Via Colinas #907\, Westlake Village\, CA\, 91362\, United States
CATEGORIES:Events
END:VEVENT
BEGIN:VEVENT
DTSTART;TZID=America/Los_Angeles:20250323T130000
DTEND;TZID=America/Los_Angeles:20250323T160000
DTSTAMP:20260419T111736
CREATED:20250221T064612Z
LAST-MODIFIED:20250221T064612Z
UID:3579-1742734800-1742745600@www.14cannons.com
SUMMARY:Shop Local Market
DESCRIPTION:
URL:https://www.14cannons.com/event/shop-local-market/
LOCATION:14 Cannons\, 31125 Via Colinas #907\, Westlake Village\, CA\, 91362\, United States
CATEGORIES:Events
END:VEVENT
BEGIN:VEVENT
DTSTART;TZID=America/Los_Angeles:20250322T190000
DTEND;TZID=America/Los_Angeles:20250322T190000
DTSTAMP:20260419T111736
CREATED:20250221T065337Z
LAST-MODIFIED:20250221T065337Z
UID:3592-1742670000-1742670000@www.14cannons.com
SUMMARY:Live Music w/ Bad Cherry
DESCRIPTION:
URL:https://www.14cannons.com/event/live-music-w-bad-cherry/
LOCATION:14 Cannons\, 31125 Via Colinas #907\, Westlake Village\, CA\, 91362\, United States
CATEGORIES:Events
END:VEVENT
BEGIN:VEVENT
DTSTART;TZID=America/Los_Angeles:20250322T130000
DTEND;TZID=America/Los_Angeles:20250322T150000
DTSTAMP:20260419T111736
CREATED:20250221T064710Z
LAST-MODIFIED:20250221T064710Z
UID:3581-1742648400-1742655600@www.14cannons.com
SUMMARY:Live Music w/ David Knopf
DESCRIPTION:
URL:https://www.14cannons.com/event/live-music-w-david-knopf/
LOCATION:14 Cannons\, 31125 Via Colinas #907\, Westlake Village\, CA\, 91362\, United States
CATEGORIES:Events
END:VEVENT
BEGIN:VEVENT
DTSTART;TZID=America/Los_Angeles:20250321T190000
DTEND;TZID=America/Los_Angeles:20250321T190000
DTSTAMP:20260419T111736
CREATED:20250221T064410Z
LAST-MODIFIED:20250221T064410Z
UID:3575-1742583600-1742583600@www.14cannons.com
SUMMARY:Live Music w/ Chasing the Morning
DESCRIPTION:
URL:https://www.14cannons.com/event/live-music-w-chasing-the-morning/
LOCATION:14 Cannons\, 31125 Via Colinas #907\, Westlake Village\, CA\, 91362\, United States
CATEGORIES:Events
END:VEVENT
BEGIN:VEVENT
DTSTART;TZID=America/Los_Angeles:20250320T190000
DTEND;TZID=America/Los_Angeles:20250320T190000
DTSTAMP:20260419T111736
CREATED:20250221T064315Z
LAST-MODIFIED:20250221T064315Z
UID:3573-1742497200-1742497200@www.14cannons.com
SUMMARY:Comedy Night w/ Funny Girl Events
DESCRIPTION:
URL:https://www.14cannons.com/event/comedy-night-w-funny-girl-events-2/
LOCATION:14 Cannons\, 31125 Via Colinas #907\, Westlake Village\, CA\, 91362\, United States
CATEGORIES:Events
END:VEVENT
BEGIN:VEVENT
DTSTART;TZID=America/Los_Angeles:20250318T190000
DTEND;TZID=America/Los_Angeles:20250318T190000
DTSTAMP:20260419T111736
CREATED:20250221T064224Z
LAST-MODIFIED:20250221T064224Z
UID:3571-1742324400-1742324400@www.14cannons.com
SUMMARY:Monthly Privateer Night
DESCRIPTION:
URL:https://www.14cannons.com/event/monthly-privateer-night/
LOCATION:14 Cannons\, 31125 Via Colinas #907\, Westlake Village\, CA\, 91362\, United States
CATEGORIES:Events
END:VEVENT
BEGIN:VEVENT
DTSTART;TZID=America/Los_Angeles:20250317T170000
DTEND;TZID=America/Los_Angeles:20250317T190000
DTSTAMP:20260419T111736
CREATED:20250221T064137Z
LAST-MODIFIED:20250221T065215Z
UID:3569-1742230800-1742238000@www.14cannons.com
SUMMARY:St. Patrick’s Party (Live Music w/ Sam)
DESCRIPTION:
URL:https://www.14cannons.com/event/st-patricks-party-live-music-w-sam/
LOCATION:14 Cannons\, 31125 Via Colinas #907\, Westlake Village\, CA\, 91362\, United States
CATEGORIES:Events
END:VEVENT
END:VCALENDAR