BEGIN:VCALENDAR
VERSION:2.0
PRODID:-//14 Cannons - ECPv6.15.11//NONSGML v1.0//EN
CALSCALE:GREGORIAN
METHOD:PUBLISH
X-WR-CALNAME:14 Cannons
X-ORIGINAL-URL:https://www.14cannons.com
X-WR-CALDESC:Events for 14 Cannons
REFRESH-INTERVAL;VALUE=DURATION:PT1H
X-Robots-Tag:noindex
X-PUBLISHED-TTL:PT1H
BEGIN:VTIMEZONE
TZID:America/Los_Angeles
BEGIN:DAYLIGHT
TZOFFSETFROM:-0800
TZOFFSETTO:-0700
TZNAME:PDT
DTSTART:20240310T100000
END:DAYLIGHT
BEGIN:STANDARD
TZOFFSETFROM:-0700
TZOFFSETTO:-0800
TZNAME:PST
DTSTART:20241103T090000
END:STANDARD
BEGIN:DAYLIGHT
TZOFFSETFROM:-0800
TZOFFSETTO:-0700
TZNAME:PDT
DTSTART:20250309T100000
END:DAYLIGHT
BEGIN:STANDARD
TZOFFSETFROM:-0700
TZOFFSETTO:-0800
TZNAME:PST
DTSTART:20251102T090000
END:STANDARD
BEGIN:DAYLIGHT
TZOFFSETFROM:-0800
TZOFFSETTO:-0700
TZNAME:PDT
DTSTART:20260308T100000
END:DAYLIGHT
BEGIN:STANDARD
TZOFFSETFROM:-0700
TZOFFSETTO:-0800
TZNAME:PST
DTSTART:20261101T090000
END:STANDARD
END:VTIMEZONE
BEGIN:VEVENT
DTSTART;TZID=America/Los_Angeles:20251130T110000
DTEND;TZID=America/Los_Angeles:20251130T150000
DTSTAMP:20260421T013437
CREATED:20251105T004920Z
LAST-MODIFIED:20251121T224840Z
UID:5225-1764500400-1764514800@www.14cannons.com
SUMMARY:Sing-A-Long R&B Brunch
DESCRIPTION:Sing It Loud\, Sing It Proud —11:00 – 3:00 PM. Limited Tickets Available!
URL:https://www.14cannons.com/event/sing-a-long-rb-brunch/
LOCATION:14 Cannons\, 31125 Via Colinas #907\, Westlake Village\, CA\, 91362\, United States
END:VEVENT
BEGIN:VEVENT
DTSTART;TZID=America/Los_Angeles:20251128T160000
DTEND;TZID=America/Los_Angeles:20251128T210000
DTSTAMP:20260421T013437
CREATED:20251105T004731Z
LAST-MODIFIED:20251105T004731Z
UID:5223-1764345600-1764363600@www.14cannons.com
SUMMARY:Black Friday Sale
DESCRIPTION:Enjoy food and drinks at a discounted price!
URL:https://www.14cannons.com/event/black-friday-sale/
LOCATION:14 Cannons\, 31125 Via Colinas #907\, Westlake Village\, CA\, 91362\, United States
END:VEVENT
BEGIN:VEVENT
DTSTART;TZID=America/Los_Angeles:20251126T180000
DTEND;TZID=America/Los_Angeles:20251126T200000
DTSTAMP:20260421T013437
CREATED:20251105T003945Z
LAST-MODIFIED:20251105T004628Z
UID:5213-1764180000-1764187200@www.14cannons.com
SUMMARY:Ultimate Bingo Night
DESCRIPTION:Bingo Night at 6:00 PM!!! Hilarious games and BIGGER  prizes. All ages are welcome!  Come early to grab a table
URL:https://www.14cannons.com/event/bingo-night-13/
LOCATION:14 Cannons\, 31125 Via Colinas #907\, Westlake Village\, CA\, 91362\, United States
END:VEVENT
BEGIN:VEVENT
DTSTART;TZID=America/Los_Angeles:20251123T130000
DTEND;TZID=America/Los_Angeles:20251123T180000
DTSTAMP:20260421T013437
CREATED:20251105T004543Z
LAST-MODIFIED:20251105T004543Z
UID:5220-1763902800-1763920800@www.14cannons.com
SUMMARY:Salloon Series at Wolfe Canyon Ranch
DESCRIPTION:Saddle up and join us at Wolfe Canyon Ranch for our Saloon Series event.
URL:https://www.14cannons.com/event/salloon-series-at-wolfe-canyon-ranch/
LOCATION:Wolfe Canyon Ranch\, 2127 E Olsen Rd\, Thousand Oaks\, CA\, 91362\, United States
END:VEVENT
BEGIN:VEVENT
DTSTART;TZID=America/Los_Angeles:20251122T190000
DTEND;TZID=America/Los_Angeles:20251122T210000
DTSTAMP:20260421T013437
CREATED:20251105T004326Z
LAST-MODIFIED:20251105T004326Z
UID:5218-1763838000-1763845200@www.14cannons.com
SUMMARY:Live Music w/ Bad Habit
DESCRIPTION:
URL:https://www.14cannons.com/event/live-music-w-bad-habit/
LOCATION:14 Cannons\, 31125 Via Colinas #907\, Westlake Village\, CA\, 91362\, United States
END:VEVENT
BEGIN:VEVENT
DTSTART;TZID=America/Los_Angeles:20251121T190000
DTEND;TZID=America/Los_Angeles:20251121T210000
DTSTAMP:20260421T013437
CREATED:20251105T004125Z
LAST-MODIFIED:20251105T004223Z
UID:5215-1763751600-1763758800@www.14cannons.com
SUMMARY:Country Night
DESCRIPTION:Enjoy Live Music\, Local Vendors\, + Line Dancing Instructions. Starts at 7:00 PM
URL:https://www.14cannons.com/event/country-night/
LOCATION:14 Cannons\, 31125 Via Colinas #907\, Westlake Village\, CA\, 91362\, United States
END:VEVENT
BEGIN:VEVENT
DTSTART;TZID=America/Los_Angeles:20251120T180000
DTEND;TZID=America/Los_Angeles:20251120T210000
DTSTAMP:20260421T013437
CREATED:20251104T205205Z
LAST-MODIFIED:20251104T205205Z
UID:5205-1763661600-1763672400@www.14cannons.com
SUMMARY:Permanent Jewelry and Wine Tasting Night
DESCRIPTION:Complementary wine tasting plus permanent jewelry with Get Lit.
URL:https://www.14cannons.com/event/permanent-jewelry-and-wine-tasting-night/
LOCATION:14 Cannons\, 31125 Via Colinas #907\, Westlake Village\, CA\, 91362\, United States
END:VEVENT
BEGIN:VEVENT
DTSTART;TZID=America/Los_Angeles:20251119T180000
DTEND;TZID=America/Los_Angeles:20251119T200000
DTSTAMP:20260421T013437
CREATED:20251105T003904Z
LAST-MODIFIED:20251105T003904Z
UID:5211-1763575200-1763582400@www.14cannons.com
SUMMARY:Bingo Night
DESCRIPTION:Bingo Night at 6:00 PM!!! Hilarious games and AWESOME prizes. All ages are welcome!  Come early to grab a table
URL:https://www.14cannons.com/event/bingo-night-12/
LOCATION:14 Cannons\, 31125 Via Colinas #907\, Westlake Village\, CA\, 91362\, United States
END:VEVENT
BEGIN:VEVENT
DTSTART;TZID=America/Los_Angeles:20251117T170000
DTEND;TZID=America/Los_Angeles:20251117T210000
DTSTAMP:20260421T013437
CREATED:20251029T221354Z
LAST-MODIFIED:20251104T205034Z
UID:5190-1763398800-1763413200@www.14cannons.com
SUMMARY:Industry Night
DESCRIPTION:
URL:https://www.14cannons.com/event/live-music-w-sam-khosravi-2/
LOCATION:14 Cannons\, 31125 Via Colinas #907\, Westlake Village\, CA\, 91362\, United States
END:VEVENT
BEGIN:VEVENT
DTSTART;TZID=America/Los_Angeles:20251115T200000
DTEND;TZID=America/Los_Angeles:20251115T200000
DTSTAMP:20260421T013437
CREATED:20251029T221522Z
LAST-MODIFIED:20251029T221522Z
UID:5194-1763236800-1763236800@www.14cannons.com
SUMMARY:Don't Tell Comedy Night
DESCRIPTION:Tickets available online.
URL:https://www.14cannons.com/event/dont-tell-comedy-night-7/
LOCATION:CA
END:VEVENT
BEGIN:VEVENT
DTSTART;TZID=America/Los_Angeles:20251114T190000
DTEND;TZID=America/Los_Angeles:20251114T210000
DTSTAMP:20260421T013437
CREATED:20251029T221426Z
LAST-MODIFIED:20251029T221426Z
UID:5192-1763146800-1763154000@www.14cannons.com
SUMMARY:Live Music w/ Hana Tabara & Band
DESCRIPTION:
URL:https://www.14cannons.com/event/live-music-w-hana-tabara-band/
LOCATION:14 Cannons\, 31125 Via Colinas #907\, Westlake Village\, CA\, 91362\, United States
END:VEVENT
BEGIN:VEVENT
DTSTART;TZID=America/Los_Angeles:20251113T110000
DTEND;TZID=America/Los_Angeles:20251113T150000
DTSTAMP:20260421T013437
CREATED:20251113T231839Z
LAST-MODIFIED:20251113T231839Z
UID:5320-1763031600-1763046000@www.14cannons.com
SUMMARY:R&B Sing-A-Long Brunch
DESCRIPTION:11:00am-3:00pm Naughty Santa Style
URL:https://www.14cannons.com/event/rb-sing-a-long-brunch-5/
LOCATION:14 Cannons\, 31125 Via Colinas #907\, Westlake Village\, CA\, 91362\, United States
END:VEVENT
BEGIN:VEVENT
DTSTART;TZID=America/Los_Angeles:20251112T180000
DTEND;TZID=America/Los_Angeles:20251112T200000
DTSTAMP:20260421T013437
CREATED:20251105T003807Z
LAST-MODIFIED:20251105T003807Z
UID:5209-1762970400-1762977600@www.14cannons.com
SUMMARY:Bingo Night
DESCRIPTION:Bingo Night at 6:00 PM!!! Hilarious games and AWESOME prizes. All ages are welcome!  Come early to grab a table
URL:https://www.14cannons.com/event/bingo-night-11/
LOCATION:14 Cannons\, 31125 Via Colinas #907\, Westlake Village\, CA\, 91362\, United States
END:VEVENT
BEGIN:VEVENT
DTSTART;TZID=America/Los_Angeles:20251107T190000
DTEND;TZID=America/Los_Angeles:20251107T210000
DTSTAMP:20260421T013437
CREATED:20251104T204814Z
LAST-MODIFIED:20251104T204814Z
UID:5202-1762542000-1762549200@www.14cannons.com
SUMMARY:Live Music w/ Sam Khosravi
DESCRIPTION:
URL:https://www.14cannons.com/event/live-music-w-sam-khosravi-3/
LOCATION:14 Cannons\, 31125 Via Colinas #907\, Westlake Village\, CA\, 91362\, United States
END:VEVENT
BEGIN:VEVENT
DTSTART;TZID=America/Los_Angeles:20251105T180000
DTEND;TZID=America/Los_Angeles:20251105T200000
DTSTAMP:20260421T013437
CREATED:20251105T003718Z
LAST-MODIFIED:20251105T003718Z
UID:5207-1762365600-1762372800@www.14cannons.com
SUMMARY:Bingo Night
DESCRIPTION:Bingo Night at 6:00 PM!!! Hilarious games and AWESOME prizes. All ages are welcome!  Come early to grab a table
URL:https://www.14cannons.com/event/bingo-night-10/
LOCATION:14 Cannons\, 31125 Via Colinas #907\, Westlake Village\, CA\, 91362\, United States
END:VEVENT
BEGIN:VEVENT
DTSTART;TZID=America/Los_Angeles:20251031T190000
DTEND;TZID=America/Los_Angeles:20251031T220000
DTSTAMP:20260421T013437
CREATED:20251029T221314Z
LAST-MODIFIED:20251029T221314Z
UID:5188-1761937200-1761948000@www.14cannons.com
SUMMARY:Live Music w/ The Jumper Cables
DESCRIPTION:
URL:https://www.14cannons.com/event/live-music-w-the-jumper-cables/
LOCATION:14 Cannons\, 31125 Via Colinas #907\, Westlake Village\, CA\, 91362\, United States
END:VEVENT
BEGIN:VEVENT
DTSTART;TZID=America/Los_Angeles:20251026T110000
DTEND;TZID=America/Los_Angeles:20251026T150000
DTSTAMP:20260421T013437
CREATED:20251029T221151Z
LAST-MODIFIED:20251029T221232Z
UID:5186-1761476400-1761490800@www.14cannons.com
SUMMARY:R&B Brunch
DESCRIPTION:Get ready to sing your heart out to all your favorite R&B hits while enjoying brunch with friends! $20 Per Person – LIMITED TICKETS AVAILABLE
URL:https://www.14cannons.com/event/rb-brunch-5/
LOCATION:14 Cannons\, 31125 Via Colinas #907\, Westlake Village\, CA\, 91362\, United States
END:VEVENT
BEGIN:VEVENT
DTSTART;TZID=America/Los_Angeles:20250928T110000
DTEND;TZID=America/Los_Angeles:20250928T150000
DTSTAMP:20260421T013437
CREATED:20250828T055359Z
LAST-MODIFIED:20250828T055359Z
UID:4225-1759057200-1759071600@www.14cannons.com
SUMMARY:R&B Sing-A-Long Brunch
DESCRIPTION:11:00 – 3:00 PM. Limited Tickets Available!
URL:https://www.14cannons.com/event/rb-sing-a-long-brunch-4/
LOCATION:CA
END:VEVENT
BEGIN:VEVENT
DTSTART;TZID=America/Los_Angeles:20250927T190000
DTEND;TZID=America/Los_Angeles:20250927T210000
DTSTAMP:20260421T013437
CREATED:20250828T054950Z
LAST-MODIFIED:20250828T054950Z
UID:4223-1758999600-1759006800@www.14cannons.com
SUMMARY:Live Music w/ Stone Temple Tribute
DESCRIPTION:
URL:https://www.14cannons.com/event/live-music-w-stone-temple-tribute/
LOCATION:CA
END:VEVENT
BEGIN:VEVENT
DTSTART;TZID=America/Los_Angeles:20250927T180000
DTEND;TZID=America/Los_Angeles:20250927T220000
DTSTAMP:20260421T013437
CREATED:20250824T014745Z
LAST-MODIFIED:20250824T014745Z
UID:4169-1758996000-1759010400@www.14cannons.com
SUMMARY:Honky Tonk Night at Wolfe Canyon Ranch
DESCRIPTION:Come on down to Wolfe Canyon Ranch for a boot-stompin’ good time! Get ready to dance the night away to some classic country tunes\, food trucks\, local vendors\, and sip on ice-cold drinks under the stars. Whether you’re a seasoned line dancer or just looking to have a great time\, this event is perfect for all country music lovers. So dust off those cowboy boots and join us for a night you won’t forget! Must be 21+ older\, IDs will be checked. Tickets include three drinks. Link for tickets in bio\n•\n#14cannons #wolfecanyonranch #countrynight#venturacountyevents #linedancing #foodtrucks
URL:https://www.14cannons.com/event/honky-tonk-night-at-wolfe-canyon-ranch/
LOCATION:Wolfe Canyon Ranch\, 2127 E Olsen Rd\, Thousand Oaks\, CA\, 91362\, United States
END:VEVENT
BEGIN:VEVENT
DTSTART;TZID=America/Los_Angeles:20250926T200000
DTEND;TZID=America/Los_Angeles:20250926T220000
DTSTAMP:20260421T013437
CREATED:20250828T054730Z
LAST-MODIFIED:20250828T054730Z
UID:4221-1758916800-1758924000@www.14cannons.com
SUMMARY:Don't Tell Comedy Night
DESCRIPTION:Starts at 8:00 PM. Tickets Available Online
URL:https://www.14cannons.com/event/dont-tell-comedy-night-6/
LOCATION:CA
END:VEVENT
BEGIN:VEVENT
DTSTART;TZID=America/Los_Angeles:20250924T180000
DTEND;TZID=America/Los_Angeles:20250924T203000
DTSTAMP:20260421T013437
CREATED:20250828T060721Z
LAST-MODIFIED:20250828T060721Z
UID:4233-1758736800-1758745800@www.14cannons.com
SUMMARY:Ultimate Bingo Night
DESCRIPTION:$5 Bingo Cards\, Hilarious Competitions + AWESOME Prizes
URL:https://www.14cannons.com/event/ultimate-bingo-night-3/
LOCATION:CA
END:VEVENT
BEGIN:VEVENT
DTSTART;TZID=America/Los_Angeles:20250920T190000
DTEND;TZID=America/Los_Angeles:20250920T210000
DTSTAMP:20260421T013437
CREATED:20250828T053258Z
LAST-MODIFIED:20250828T053258Z
UID:4214-1758394800-1758402000@www.14cannons.com
SUMMARY:Live Music w/ DVGB Band
DESCRIPTION:
URL:https://www.14cannons.com/event/live-music-w-dvgb-band/
LOCATION:CA
END:VEVENT
BEGIN:VEVENT
DTSTART;TZID=America/Los_Angeles:20250919T190000
DTEND;TZID=America/Los_Angeles:20250919T210000
DTSTAMP:20260421T013437
CREATED:20250828T052828Z
LAST-MODIFIED:20250828T052828Z
UID:4212-1758308400-1758315600@www.14cannons.com
SUMMARY:Live Music w/ The Way
DESCRIPTION:
URL:https://www.14cannons.com/event/live-music-w-the-way/
LOCATION:CA
END:VEVENT
BEGIN:VEVENT
DTSTART;TZID=America/Los_Angeles:20250918T190000
DTEND;TZID=America/Los_Angeles:20250918T210000
DTSTAMP:20260421T013437
CREATED:20250828T060454Z
LAST-MODIFIED:20250828T060454Z
UID:4231-1758222000-1758229200@www.14cannons.com
SUMMARY:Comedy Night w/ Funny Girl Events
DESCRIPTION:Starts at 7:00 PM. Tickets Available Online
URL:https://www.14cannons.com/event/comedy-night-w-funny-girl-events-9/
LOCATION:CA
END:VEVENT
BEGIN:VEVENT
DTSTART;TZID=America/Los_Angeles:20250914T110000
DTEND;TZID=America/Los_Angeles:20250914T150000
DTSTAMP:20260421T013437
CREATED:20250828T052323Z
LAST-MODIFIED:20250828T052323Z
UID:4208-1757847600-1757862000@www.14cannons.com
SUMMARY:R&B Brunch
DESCRIPTION:11:00 – 3:00 PM. Limited Tickets Available!
URL:https://www.14cannons.com/event/rb-brunch-4/
LOCATION:CA
END:VEVENT
BEGIN:VEVENT
DTSTART;TZID=America/Los_Angeles:20250913T200000
DTEND;TZID=America/Los_Angeles:20250913T230000
DTSTAMP:20260421T013437
CREATED:20250828T051330Z
LAST-MODIFIED:20250828T051330Z
UID:4201-1757793600-1757804400@www.14cannons.com
SUMMARY:Brew-U Nights
DESCRIPTION:DJ Sweet P From 8:00 – 11:00 PM I Bring Your College ID & Receive Drink Discounts
URL:https://www.14cannons.com/event/brew-u-nights/
LOCATION:CA
END:VEVENT
BEGIN:VEVENT
DTSTART;TZID=America/Los_Angeles:20250912T190000
DTEND;TZID=America/Los_Angeles:20250912T220000
DTSTAMP:20260421T013437
CREATED:20250828T060150Z
LAST-MODIFIED:20250828T060150Z
UID:4229-1757703600-1757714400@www.14cannons.com
SUMMARY:Country Vibes Night
DESCRIPTION:Starts at 7:00 PM I Live Music w/ Ellis Bryant\, Local Vendors + Line Dancing
URL:https://www.14cannons.com/event/country-vibes-night-7/
LOCATION:CA
END:VEVENT
BEGIN:VEVENT
DTSTART;TZID=America/Los_Angeles:20250906T190000
DTEND;TZID=America/Los_Angeles:20250906T210000
DTSTAMP:20260421T013437
CREATED:20250828T050905Z
LAST-MODIFIED:20250828T050905Z
UID:4195-1757185200-1757192400@www.14cannons.com
SUMMARY:Live Music w/ Bad Cherry
DESCRIPTION:
URL:https://www.14cannons.com/event/live-music-w-bad-cherry-4/
LOCATION:CA
END:VEVENT
BEGIN:VEVENT
DTSTART;TZID=America/Los_Angeles:20250905T190000
DTEND;TZID=America/Los_Angeles:20250905T210000
DTSTAMP:20260421T013437
CREATED:20250828T050708Z
LAST-MODIFIED:20250828T050708Z
UID:4192-1757098800-1757106000@www.14cannons.com
SUMMARY:Live Music w/ Checkered Past
DESCRIPTION:
URL:https://www.14cannons.com/event/live-music-w-checkered-past/
LOCATION:CA
END:VEVENT
END:VCALENDAR